BEGIN:VCALENDAR
VERSION:2.0
PRODID:-//wp-events-plugin.com//7.2.3.1//EN
TZID:Europe/Paris
X-WR-TIMEZONE:Europe/Paris
BEGIN:VEVENT
UID:1@esrp-bouffemont.fr
DTSTART;TZID=Europe/Paris:20240314T083000
DTEND;TZID=Europe/Paris:20240314T120000
DTSTAMP:20240223T113022Z
URL:https://esrp-bouffemont.fr/event/matinale-porte-ouverte-esrp-po/
SUMMARY:Matinale porte ouverte ESRP/PO
DESCRIPTION:
LOCATION:Bouffémont\, 5 Rue Pasteur\, Bouffémont\, 95570 \, France
X-APPLE-STRUCTURED-LOCATION;VALUE=URI;X-ADDRESS=5 Rue Pasteur\, Bouffémont
 \, 95570 \, France;X-APPLE-RADIUS=100;X-TITLE=Bouffémont:geo:0,0
END:VEVENT
BEGIN:VEVENT
UID:2@esrp-bouffemont.fr
DTSTART;TZID=Europe/Paris:20240319T000000
DTEND;TZID=Europe/Paris:20240319T000000
DTSTAMP:20240223T114223Z
URL:https://esrp-bouffemont.fr/event/matinale-mars-porte-ouverte-esrp-po/
SUMMARY:Matinale Mars porte ouverte ESRP/PO
DESCRIPTION:
LOCATION:Bouffémont\, 5 Rue Pasteur\, Bouffémont\, 95570 \, France
X-APPLE-STRUCTURED-LOCATION;VALUE=URI;X-ADDRESS=5 Rue Pasteur\, Bouffémont
 \, 95570 \, France;X-APPLE-RADIUS=100;X-TITLE=Bouffémont:geo:0,0
END:VEVENT
BEGIN:VTIMEZONE
TZID:Europe/Paris
X-LIC-LOCATION:Europe/Paris
BEGIN:STANDARD
DTSTART:20231029T020000
TZOFFSETFROM:+0200
TZOFFSETTO:+0100
TZNAME:CET
END:STANDARD
END:VTIMEZONE
END:VCALENDAR